BEGIN:VCALENDAR
VERSION:2.0
PRODID:-//Christlicher Lernraum - ECPv6.15.20//NONSGML v1.0//EN
CALSCALE:GREGORIAN
METHOD:PUBLISH
X-WR-CALNAME:Christlicher Lernraum
X-ORIGINAL-URL:https://christlicherlernraum.de
X-WR-CALDESC:Veranstaltungen für Christlicher Lernraum
REFRESH-INTERVAL;VALUE=DURATION:PT1H
X-Robots-Tag:noindex
X-PUBLISHED-TTL:PT1H
BEGIN:VTIMEZONE
TZID:Europe/Berlin
BEGIN:DAYLIGHT
TZOFFSETFROM:+0100
TZOFFSETTO:+0200
TZNAME:CEST
DTSTART:20250330T010000
END:DAYLIGHT
BEGIN:STANDARD
TZOFFSETFROM:+0200
TZOFFSETTO:+0100
TZNAME:CET
DTSTART:20251026T010000
END:STANDARD
BEGIN:DAYLIGHT
TZOFFSETFROM:+0100
TZOFFSETTO:+0200
TZNAME:CEST
DTSTART:20260329T010000
END:DAYLIGHT
BEGIN:STANDARD
TZOFFSETFROM:+0200
TZOFFSETTO:+0100
TZNAME:CET
DTSTART:20261025T010000
END:STANDARD
BEGIN:DAYLIGHT
TZOFFSETFROM:+0100
TZOFFSETTO:+0200
TZNAME:CEST
DTSTART:20270328T010000
END:DAYLIGHT
BEGIN:STANDARD
TZOFFSETFROM:+0200
TZOFFSETTO:+0100
TZNAME:CET
DTSTART:20271031T010000
END:STANDARD
END:VTIMEZONE
BEGIN:VEVENT
DTSTART;TZID=Europe/Berlin:20260612T075000
DTEND;TZID=Europe/Berlin:20260612T150000
DTSTAMP:20260420T213719
CREATED:20251124T104110Z
LAST-MODIFIED:20260414T070036Z
UID:3859-1781250600-1781276400@christlicherlernraum.de
SUMMARY:Tag des offenen Lernraumes
DESCRIPTION:Mehr Infos. https://christlicherlernraum.de/tag-des-offenen-lernraumes/
URL:https://christlicherlernraum.de/event/tag-des-offenen-lernraumes/
LOCATION:Sachsen
END:VEVENT
END:VCALENDAR