BEGIN:VCALENDAR
VERSION:2.0
PRODID:-//Christlicher Lernraum - ECPv6.15.20//NONSGML v1.0//EN
CALSCALE:GREGORIAN
METHOD:PUBLISH
X-WR-CALNAME:Christlicher Lernraum
X-ORIGINAL-URL:https://christlicherlernraum.de
X-WR-CALDESC:Veranstaltungen für Christlicher Lernraum
REFRESH-INTERVAL;VALUE=DURATION:PT1H
X-Robots-Tag:noindex
X-PUBLISHED-TTL:PT1H
BEGIN:VTIMEZONE
TZID:Europe/Berlin
BEGIN:DAYLIGHT
TZOFFSETFROM:+0100
TZOFFSETTO:+0200
TZNAME:CEST
DTSTART:20250330T010000
END:DAYLIGHT
BEGIN:STANDARD
TZOFFSETFROM:+0200
TZOFFSETTO:+0100
TZNAME:CET
DTSTART:20251026T010000
END:STANDARD
BEGIN:DAYLIGHT
TZOFFSETFROM:+0100
TZOFFSETTO:+0200
TZNAME:CEST
DTSTART:20260329T010000
END:DAYLIGHT
BEGIN:STANDARD
TZOFFSETFROM:+0200
TZOFFSETTO:+0100
TZNAME:CET
DTSTART:20261025T010000
END:STANDARD
BEGIN:DAYLIGHT
TZOFFSETFROM:+0100
TZOFFSETTO:+0200
TZNAME:CEST
DTSTART:20270328T010000
END:DAYLIGHT
BEGIN:STANDARD
TZOFFSETFROM:+0200
TZOFFSETTO:+0100
TZNAME:CET
DTSTART:20271031T010000
END:STANDARD
END:VTIMEZONE
BEGIN:VEVENT
DTSTART;TZID=Europe/Berlin:20260202T130000
DTEND;TZID=Europe/Berlin:20260202T160000
DTSTAMP:20260420T200812
CREATED:20250814T073445Z
LAST-MODIFIED:20250814T073445Z
UID:3676-1770037200-1770048000@christlicherlernraum.de
SUMMARY:Supervision des Lernraum-Teams
DESCRIPTION:Eingeschränkte Betreuung im Lernraum
URL:https://christlicherlernraum.de/event/supervision-des-lernraum-teams/
LOCATION:Christlicher Lernraum Döbeln-Technitz\, Westewitzer Str. 17\, Döbeln OT Technitz\, Sachsen\, 04720\, Germany
END:VEVENT
BEGIN:VEVENT
DTSTART;VALUE=DATE:20260209
DTEND;VALUE=DATE:20260221
DTSTAMP:20260420T200812
CREATED:20250814T073606Z
LAST-MODIFIED:20250814T073606Z
UID:3678-1770595200-1771631999@christlicherlernraum.de
SUMMARY:Winterferien
DESCRIPTION:
URL:https://christlicherlernraum.de/event/winterferien/
LOCATION:Sachsen
END:VEVENT
BEGIN:VEVENT
DTSTART;TZID=Europe/Berlin:20260224T183000
DTEND;TZID=Europe/Berlin:20260224T200000
DTSTAMP:20260420T200812
CREATED:20260205T084541Z
LAST-MODIFIED:20260205T084541Z
UID:3919-1771957800-1771963200@christlicherlernraum.de
SUMMARY:Elternabend "Wochenplan"
DESCRIPTION:Herzlich laden wir Sie zu unserem nächsten Elternabend im Christlichen Lernraum Döbeln-Technitz ein. \nGemeinsam möchten wir Ihnen unseren „Wochenplan“ vorstellen und Einblicke in den Lernalltag geben. \nBitte melden Sie sich verbindlich über folgenden Link an: \nhttps://pollunit.com/polls/e8xsk0c_c8_qrtakrbvgvq
URL:https://christlicherlernraum.de/event/elternabend-wochenplan/
LOCATION:Christlicher Lernraum Döbeln-Technitz\, Westewitzer Str. 17\, Döbeln OT Technitz\, Sachsen\, 04720\, Germany
END:VEVENT
END:VCALENDAR